BEGIN:VCALENDAR
VERSION:2.0
PRODID:-//Rushmore Tramway Adventures - ECPv6.15.20//NONSGML v1.0//EN
CALSCALE:GREGORIAN
METHOD:PUBLISH
X-WR-CALNAME:Rushmore Tramway Adventures
X-ORIGINAL-URL:https://rushmoretramwayadventures.com
X-WR-CALDESC:Events for Rushmore Tramway Adventures
REFRESH-INTERVAL;VALUE=DURATION:PT1H
X-Robots-Tag:noindex
X-PUBLISHED-TTL:PT1H
BEGIN:VTIMEZONE
TZID:America/Chicago
BEGIN:DAYLIGHT
TZOFFSETFROM:-0600
TZOFFSETTO:-0500
TZNAME:CDT
DTSTART:20200308T080000
END:DAYLIGHT
BEGIN:STANDARD
TZOFFSETFROM:-0500
TZOFFSETTO:-0600
TZNAME:CST
DTSTART:20201101T070000
END:STANDARD
BEGIN:DAYLIGHT
TZOFFSETFROM:-0600
TZOFFSETTO:-0500
TZNAME:CDT
DTSTART:20210314T080000
END:DAYLIGHT
BEGIN:STANDARD
TZOFFSETFROM:-0500
TZOFFSETTO:-0600
TZNAME:CST
DTSTART:20211107T070000
END:STANDARD
BEGIN:DAYLIGHT
TZOFFSETFROM:-0600
TZOFFSETTO:-0500
TZNAME:CDT
DTSTART:20220313T080000
END:DAYLIGHT
BEGIN:STANDARD
TZOFFSETFROM:-0500
TZOFFSETTO:-0600
TZNAME:CST
DTSTART:20221106T070000
END:STANDARD
END:VTIMEZONE
BEGIN:VEVENT
DTSTART;TZID=America/Chicago:20210605T093000
DTEND;TZID=America/Chicago:20210618T180000
DTSTAMP:20260423T042127
CREATED:20210404T232204Z
LAST-MODIFIED:20220107T004418Z
UID:1378-1622885400-1624039200@rushmoretramwayadventures.com
SUMMARY:Open 9:30 - 6:00 pm
DESCRIPTION:Aerial Adventure Park – 9:30-5:30\nPinnacle Zip Tour – 9:30-5:00 Tours depart every 45 minutes\nAlpine Slide – 9:30-6\nScenic Chairlift – 9:30-6\nJump Tower – 9:30-6\n800 ft. Zipline – 9:30-6\nTubing Hill – 9:30-6\nGeorge’s Grill – 11-5:30
URL:https://rushmoretramwayadventures.com/hours-pricing/open-930-600-pm/
LOCATION:Rushmore Tramway Adventures\, 203 Cemetery Road\, Keystone SD\, 57751\, United States
CATEGORIES:800 ft. Zipline,Aerial Adventure Park,Alpine Slide,George's Grill,Jump Tower,Pinnacle Zip Tour,Scenic Chairlift,Tubing Hill
ORGANIZER;CN="Rushmore Adventures Team":MAILTO:info@rushmoretramway.com
END:VEVENT
END:VCALENDAR