BEGIN:VCALENDAR
VERSION:2.0
PRODID:-//Rushmore Tramway Adventures - ECPv6.15.20//NONSGML v1.0//EN
CALSCALE:GREGORIAN
METHOD:PUBLISH
X-WR-CALNAME:Rushmore Tramway Adventures
X-ORIGINAL-URL:https://rushmoretramwayadventures.com
X-WR-CALDESC:Events for Rushmore Tramway Adventures
REFRESH-INTERVAL;VALUE=DURATION:PT1H
X-Robots-Tag:noindex
X-PUBLISHED-TTL:PT1H
BEGIN:VTIMEZONE
TZID:America/Chicago
BEGIN:DAYLIGHT
TZOFFSETFROM:-0600
TZOFFSETTO:-0500
TZNAME:CDT
DTSTART:20200308T080000
END:DAYLIGHT
BEGIN:STANDARD
TZOFFSETFROM:-0500
TZOFFSETTO:-0600
TZNAME:CST
DTSTART:20201101T070000
END:STANDARD
BEGIN:DAYLIGHT
TZOFFSETFROM:-0600
TZOFFSETTO:-0500
TZNAME:CDT
DTSTART:20210314T080000
END:DAYLIGHT
BEGIN:STANDARD
TZOFFSETFROM:-0500
TZOFFSETTO:-0600
TZNAME:CST
DTSTART:20211107T070000
END:STANDARD
BEGIN:DAYLIGHT
TZOFFSETFROM:-0600
TZOFFSETTO:-0500
TZNAME:CDT
DTSTART:20220313T080000
END:DAYLIGHT
BEGIN:STANDARD
TZOFFSETFROM:-0500
TZOFFSETTO:-0600
TZNAME:CST
DTSTART:20221106T070000
END:STANDARD
END:VTIMEZONE
BEGIN:VEVENT
DTSTART;TZID=America/Chicago:20210814T100000
DTEND;TZID=America/Chicago:20210829T163000
DTSTAMP:20260423T041343
CREATED:20210404T233342Z
LAST-MODIFIED:20220107T004349Z
UID:1386-1628935200-1630254600@rushmoretramwayadventures.com
SUMMARY:Open 10:00 am - 4:30 pm
DESCRIPTION:Aerial Adventure Park – 10:00-4:00\nPinnacle Zip Tour – 10:00-3:30 Tours depart every 30 minutes\nAlpine Slide – 10:00-4:30\nScenic Chairlift – 10:00-4:30\n800 ft. Zipline – 10:00-4:30\nTubing Hill – 10:00-4:30\nGeorge’s Grill – 11-4:00
URL:https://rushmoretramwayadventures.com/hours-pricing/open-1000-am-430-pm-3/
LOCATION:Rushmore Tramway Adventures\, 203 Cemetery Road\, Keystone SD\, 57751\, United States
CATEGORIES:800 ft. Zipline,Aerial Adventure Park,Alpine Slide,George's Grill,Jump Tower,Pinnacle Zip Tour,Scenic Chairlift,Tubing Hill
ORGANIZER;CN="Rushmore Adventures Team":MAILTO:info@rushmoretramway.com
END:VEVENT
END:VCALENDAR