BEGIN:VCALENDAR
VERSION:2.0
PRODID:-//Rushmore Tramway Adventures - ECPv6.15.20//NONSGML v1.0//EN
CALSCALE:GREGORIAN
METHOD:PUBLISH
X-WR-CALNAME:Rushmore Tramway Adventures
X-ORIGINAL-URL:https://rushmoretramwayadventures.com
X-WR-CALDESC:Events for Rushmore Tramway Adventures
REFRESH-INTERVAL;VALUE=DURATION:PT1H
X-Robots-Tag:noindex
X-PUBLISHED-TTL:PT1H
BEGIN:VTIMEZONE
TZID:America/Chicago
BEGIN:DAYLIGHT
TZOFFSETFROM:-0600
TZOFFSETTO:-0500
TZNAME:CDT
DTSTART:20210314T080000
END:DAYLIGHT
BEGIN:STANDARD
TZOFFSETFROM:-0500
TZOFFSETTO:-0600
TZNAME:CST
DTSTART:20211107T070000
END:STANDARD
BEGIN:DAYLIGHT
TZOFFSETFROM:-0600
TZOFFSETTO:-0500
TZNAME:CDT
DTSTART:20220313T080000
END:DAYLIGHT
BEGIN:STANDARD
TZOFFSETFROM:-0500
TZOFFSETTO:-0600
TZNAME:CST
DTSTART:20221106T070000
END:STANDARD
BEGIN:DAYLIGHT
TZOFFSETFROM:-0600
TZOFFSETTO:-0500
TZNAME:CDT
DTSTART:20230312T080000
END:DAYLIGHT
BEGIN:STANDARD
TZOFFSETFROM:-0500
TZOFFSETTO:-0600
TZNAME:CST
DTSTART:20231105T070000
END:STANDARD
END:VTIMEZONE
BEGIN:VEVENT
DTSTART;TZID=America/Chicago:20220903T093000
DTEND;TZID=America/Chicago:20220904T190000
DTSTAMP:20260422T053415
CREATED:20220130T003621Z
LAST-MODIFIED:20220302T013848Z
UID:1998-1662197400-1662318000@rushmoretramwayadventures.com
SUMMARY:OPEN 9:30AM - 7:00PM
DESCRIPTION:Aerial Adventure Park – 9:30AM – 6:30PM\nPinnacle Zip Tour – 9:30-6:00 Tours depart every 30 minutes\n800 ft. Zipline – 9:30-7\nJump Tower – 9:30-7\nTubing Hill – 9:30-7 \nChairlift – 9:30-7 \nAlpine Slide – 9:30-7 \nGeorge’s Grill – 9:30-6:30
URL:https://rushmoretramwayadventures.com/hours-pricing/open-hours-930-7-zt30/
LOCATION:Rushmore Tramway Adventures\, 203 Cemetery Road\, Keystone SD\, 57751\, United States
CATEGORIES:800 ft. Zipline,Aerial Adventure Park,Alpine Slide,George's Grill,Jump Tower,Pinnacle Zip Tour,Scenic Chairlift,Tubing Hill
ORGANIZER;CN="Rushmore Adventures Team":MAILTO:info@rushmoretramway.com
END:VEVENT
END:VCALENDAR