BEGIN:VCALENDAR
VERSION:2.0
PRODID:-//Rushmore Tramway Adventures - ECPv6.15.20//NONSGML v1.0//EN
CALSCALE:GREGORIAN
METHOD:PUBLISH
X-ORIGINAL-URL:https://rushmoretramwayadventures.com
X-WR-CALDESC:Events for Rushmore Tramway Adventures
REFRESH-INTERVAL;VALUE=DURATION:PT1H
X-Robots-Tag:noindex
X-PUBLISHED-TTL:PT1H
BEGIN:VTIMEZONE
TZID:America/Chicago
BEGIN:DAYLIGHT
TZOFFSETFROM:-0600
TZOFFSETTO:-0500
TZNAME:CDT
DTSTART:20220313T080000
END:DAYLIGHT
BEGIN:STANDARD
TZOFFSETFROM:-0500
TZOFFSETTO:-0600
TZNAME:CST
DTSTART:20221106T070000
END:STANDARD
BEGIN:DAYLIGHT
TZOFFSETFROM:-0600
TZOFFSETTO:-0500
TZNAME:CDT
DTSTART:20230312T080000
END:DAYLIGHT
BEGIN:STANDARD
TZOFFSETFROM:-0500
TZOFFSETTO:-0600
TZNAME:CST
DTSTART:20231105T070000
END:STANDARD
BEGIN:DAYLIGHT
TZOFFSETFROM:-0600
TZOFFSETTO:-0500
TZNAME:CDT
DTSTART:20240310T080000
END:DAYLIGHT
BEGIN:STANDARD
TZOFFSETFROM:-0500
TZOFFSETTO:-0600
TZNAME:CST
DTSTART:20241103T070000
END:STANDARD
END:VTIMEZONE
BEGIN:VEVENT
DTSTART;VALUE=DATE:20230513
DTEND;VALUE=DATE:20230515
DTSTAMP:20260421T182347
CREATED:20230214T203053Z
LAST-MODIFIED:20230215T175346Z
UID:2296-1683936000-1684108799@rushmoretramwayadventures.com
SUMMARY:LOWEST PRICING
DESCRIPTION:
URL:https://rushmoretramwayadventures.com/hours-pricing/base-pricing-3/
END:VEVENT
BEGIN:VEVENT
DTSTART;TZID=America/Chicago:20230513T100000
DTEND;TZID=America/Chicago:20230514T160000
DTSTAMP:20260421T182347
CREATED:20230209T182247Z
LAST-MODIFIED:20230209T182247Z
UID:2224-1683972000-1684080000@rushmoretramwayadventures.com
SUMMARY:OPEN 10:00AM - 4:00PM
DESCRIPTION:Aerial Adventure Park – 10:00AM – 3:30PM\nPinnacle Zip Tour – 10-3 Tours depart every 60 minutes\n800 ft. Zipline – 10-4\nJump Tower – 10-4\nTubing Hill – 10-4 \nChairlift – Opens May 20th!\nAlpine Slide – Opens May 20th!\nGeorge’s Grill – Opens May 26th!
URL:https://rushmoretramwayadventures.com/hours-pricing/open-1000am-400pm/
CATEGORIES:800 ft. Zipline,Aerial Adventure Park,Jump Tower,Pinnacle Zip Tour,Tubing Hill
END:VEVENT
END:VCALENDAR