BEGIN:VCALENDAR
VERSION:2.0
PRODID:-//Rushmore Tramway Adventures - ECPv6.15.20//NONSGML v1.0//EN
CALSCALE:GREGORIAN
METHOD:PUBLISH
X-ORIGINAL-URL:https://rushmoretramwayadventures.com
X-WR-CALDESC:Events for Rushmore Tramway Adventures
REFRESH-INTERVAL;VALUE=DURATION:PT1H
X-Robots-Tag:noindex
X-PUBLISHED-TTL:PT1H
BEGIN:VTIMEZONE
TZID:America/Chicago
BEGIN:DAYLIGHT
TZOFFSETFROM:-0600
TZOFFSETTO:-0500
TZNAME:CDT
DTSTART:20230312T080000
END:DAYLIGHT
BEGIN:STANDARD
TZOFFSETFROM:-0500
TZOFFSETTO:-0600
TZNAME:CST
DTSTART:20231105T070000
END:STANDARD
BEGIN:DAYLIGHT
TZOFFSETFROM:-0600
TZOFFSETTO:-0500
TZNAME:CDT
DTSTART:20240310T080000
END:DAYLIGHT
BEGIN:STANDARD
TZOFFSETFROM:-0500
TZOFFSETTO:-0600
TZNAME:CST
DTSTART:20241103T070000
END:STANDARD
BEGIN:DAYLIGHT
TZOFFSETFROM:-0600
TZOFFSETTO:-0500
TZNAME:CDT
DTSTART:20250309T080000
END:DAYLIGHT
BEGIN:STANDARD
TZOFFSETFROM:-0500
TZOFFSETTO:-0600
TZNAME:CST
DTSTART:20251102T070000
END:STANDARD
END:VTIMEZONE
BEGIN:VEVENT
DTSTART;VALUE=DATE:20240801
DTEND;VALUE=DATE:20240831
DTSTAMP:20260421T122504
CREATED:20230919T185228Z
LAST-MODIFIED:20230919T185228Z
UID:2583-1722470400-1725062399@rushmoretramwayadventures.com
SUMMARY:LOWEST PRICING
DESCRIPTION:
URL:https://rushmoretramwayadventures.com/hours-pricing/lowest-pricing-5/
END:VEVENT
BEGIN:VEVENT
DTSTART;TZID=America/Chicago:20240804T100000
DTEND;TZID=America/Chicago:20240809T170000
DTSTAMP:20260421T122504
CREATED:20230919T190228Z
LAST-MODIFIED:20230919T190228Z
UID:2587-1722765600-1723222800@rushmoretramwayadventures.com
SUMMARY:OPEN 10:00AM - 5:00PM
DESCRIPTION:Aerial Adventure Park – 10-4:30\nPinnacle Zip Tour – 10-4 Tours depart every 45 minutes\n800 ft. Zipline – 10-5\nJump Tower – 10-5\nTubing Hill – 10-5\nScenic Chairlift – 10-5\nAlpine Slide – 10-5\nGeorge’s Grill – 11-4:30
URL:https://rushmoretramwayadventures.com/hours-pricing/open-1000am-500pm-2/
CATEGORIES:800 ft. Zipline,Aerial Adventure Park,Alpine Slide,George's Grill,Jump Tower,Pinnacle Zip Tour,Scenic Chairlift,Tubing Hill
END:VEVENT
END:VCALENDAR