BEGIN:VCALENDAR
VERSION:2.0
PRODID:-//Rushmore Tramway Adventures - ECPv6.15.20//NONSGML v1.0//EN
CALSCALE:GREGORIAN
METHOD:PUBLISH
X-WR-CALNAME:Rushmore Tramway Adventures
X-ORIGINAL-URL:https://rushmoretramwayadventures.com
X-WR-CALDESC:Events for Rushmore Tramway Adventures
REFRESH-INTERVAL;VALUE=DURATION:PT1H
X-Robots-Tag:noindex
X-PUBLISHED-TTL:PT1H
BEGIN:VTIMEZONE
TZID:America/Chicago
BEGIN:DAYLIGHT
TZOFFSETFROM:-0600
TZOFFSETTO:-0500
TZNAME:CDT
DTSTART:20220313T080000
END:DAYLIGHT
BEGIN:STANDARD
TZOFFSETFROM:-0500
TZOFFSETTO:-0600
TZNAME:CST
DTSTART:20221106T070000
END:STANDARD
BEGIN:DAYLIGHT
TZOFFSETFROM:-0600
TZOFFSETTO:-0500
TZNAME:CDT
DTSTART:20230312T080000
END:DAYLIGHT
BEGIN:STANDARD
TZOFFSETFROM:-0500
TZOFFSETTO:-0600
TZNAME:CST
DTSTART:20231105T070000
END:STANDARD
BEGIN:DAYLIGHT
TZOFFSETFROM:-0600
TZOFFSETTO:-0500
TZNAME:CDT
DTSTART:20240310T080000
END:DAYLIGHT
BEGIN:STANDARD
TZOFFSETFROM:-0500
TZOFFSETTO:-0600
TZNAME:CST
DTSTART:20241103T070000
END:STANDARD
END:VTIMEZONE
BEGIN:VEVENT
DTSTART;TZID=America/Chicago:20230901T093000
DTEND;TZID=America/Chicago:20230901T170000
DTSTAMP:20260422T234841
CREATED:20230209T191837Z
LAST-MODIFIED:20230209T191909Z
UID:2270-1693560600-1693587600@rushmoretramwayadventures.com
SUMMARY:OPEN 9:30AM - 5:00 PM
DESCRIPTION:Aerial Adventure Park – 9:30-4:30\nPinnacle Zip Tour – 9:30-4:15 Tours depart every 45 minutes\n800 ft. Zipline – 9:30-5\nJump Tower – 9:30-5\nTubing Hill – 9:30-5\nScenic Chairlift – 9:30-5\nAlpine Slide – 9:30-5\nGeorge’s Grill – 11-4:30
URL:https://rushmoretramwayadventures.com/hours-pricing/open-930am-500-pm/
CATEGORIES:800 ft. Zipline,Aerial Adventure Park,Alpine Slide,George's Grill,Jump Tower,Pinnacle Zip Tour,Scenic Chairlift,Tubing Hill
END:VEVENT
BEGIN:VEVENT
DTSTART;TZID=America/Chicago:20230902T093000
DTEND;TZID=America/Chicago:20230903T190000
DTSTAMP:20260422T234841
CREATED:20230209T192022Z
LAST-MODIFIED:20230209T192022Z
UID:2273-1693647000-1693767600@rushmoretramwayadventures.com
SUMMARY:OPEN 9:30AM - 7:00PM
DESCRIPTION:Aerial Adventure Park – 9:30-6:30\nPinnacle Zip Tour – 9:30-6 Tours depart every 30 minutes\n800 ft. Zipline – 9:30-7\nJump Tower – 9:30-7\nTubing Hill – 9:30-7\nScenic Chairlift – 9:30-7\nAlpine Slide – 9:30-7\nGeorge’s Grill – 11-6:30
URL:https://rushmoretramwayadventures.com/hours-pricing/open-930am-700pm-2/
CATEGORIES:800 ft. Zipline,Aerial Adventure Park,Alpine Slide,George's Grill,Jump Tower,Pinnacle Zip Tour,Scenic Chairlift,Tubing Hill
END:VEVENT
BEGIN:VEVENT
DTSTART;TZID=America/Chicago:20230904T093000
DTEND;TZID=America/Chicago:20230904T160000
DTSTAMP:20260422T234841
CREATED:20230209T192145Z
LAST-MODIFIED:20230209T192145Z
UID:2275-1693819800-1693843200@rushmoretramwayadventures.com
SUMMARY:OPEN 9:30AM - 4:00PM
DESCRIPTION:Aerial Adventure Park – 9:30-3:30\nPinnacle Zip Tour – 9:30-2:45 Tours depart every 45 minutes\n800 ft. Zipline – 9:30-4\nJump Tower – 9:30-4\nTubing Hill – 9:30-4\nScenic Chairlift – 9:30-4\nAlpine Slide – 9:30-4\nGeorge’s Grill – 11-3:30
URL:https://rushmoretramwayadventures.com/hours-pricing/open-930am-400pm/
CATEGORIES:800 ft. Zipline,Aerial Adventure Park,Alpine Slide,George's Grill,Jump Tower,Pinnacle Zip Tour,Scenic Chairlift,Tubing Hill
END:VEVENT
END:VCALENDAR