BEGIN:VCALENDAR
VERSION:2.0
PRODID:-//Rushmore Tramway Adventures - ECPv6.15.20//NONSGML v1.0//EN
CALSCALE:GREGORIAN
METHOD:PUBLISH
X-ORIGINAL-URL:https://rushmoretramwayadventures.com
X-WR-CALDESC:Events for Rushmore Tramway Adventures
REFRESH-INTERVAL;VALUE=DURATION:PT1H
X-Robots-Tag:noindex
X-PUBLISHED-TTL:PT1H
BEGIN:VTIMEZONE
TZID:America/Chicago
BEGIN:DAYLIGHT
TZOFFSETFROM:-0600
TZOFFSETTO:-0500
TZNAME:CDT
DTSTART:20210314T080000
END:DAYLIGHT
BEGIN:STANDARD
TZOFFSETFROM:-0500
TZOFFSETTO:-0600
TZNAME:CST
DTSTART:20211107T070000
END:STANDARD
BEGIN:DAYLIGHT
TZOFFSETFROM:-0600
TZOFFSETTO:-0500
TZNAME:CDT
DTSTART:20220313T080000
END:DAYLIGHT
BEGIN:STANDARD
TZOFFSETFROM:-0500
TZOFFSETTO:-0600
TZNAME:CST
DTSTART:20221106T070000
END:STANDARD
BEGIN:DAYLIGHT
TZOFFSETFROM:-0600
TZOFFSETTO:-0500
TZNAME:CDT
DTSTART:20230312T080000
END:DAYLIGHT
BEGIN:STANDARD
TZOFFSETFROM:-0500
TZOFFSETTO:-0600
TZNAME:CST
DTSTART:20231105T070000
END:STANDARD
END:VTIMEZONE
BEGIN:VEVENT
DTSTART;TZID=America/Chicago:20220701T093000
DTEND;TZID=America/Chicago:20220804T183000
DTSTAMP:20260422T053507
CREATED:20220129T234636Z
LAST-MODIFIED:20220522T153452Z
UID:1975-1656667800-1659637800@rushmoretramwayadventures.com
SUMMARY:OPEN 9:30AM - 6:30PM
DESCRIPTION:Aerial Adventure Park – 9:30AM – 6:00PM\nPinnacle Zip Tour – 9:30-5:30 Tours depart every 30 minutes\n800 ft. Zipline – 9:30-6:30\nJump Tower – 9:30-6:30\nTubing Hill – 9:30-6:30 \nChairlift – 9:30-6:30 \nAlpine Slide – 9:30-6:30 \nGeorge’s Grill – 11-6:00
URL:https://rushmoretramwayadventures.com/hours-pricing/open-hours-930-6-zt30-2/
CATEGORIES:800 ft. Zipline,Aerial Adventure Park,Alpine Slide,George's Grill,Jump Tower,Pinnacle Zip Tour,Scenic Chairlift,Tubing Hill
END:VEVENT
BEGIN:VEVENT
DTSTART;TZID=America/Chicago:20220805T093000
DTEND;TZID=America/Chicago:20220806T180000
DTSTAMP:20260422T053507
CREATED:20220522T152240Z
LAST-MODIFIED:20220522T153614Z
UID:2119-1659691800-1659808800@rushmoretramwayadventures.com
SUMMARY:OPEN 9:30AM - 6:00PM
DESCRIPTION:Aerial Adventure Park – 9:30AM – 5:30PM\nPinnacle Zip Tour – 9:30-5:00 Tours depart every 30 minutes\n800 ft. Zipline – 9:30-6\nJump Tower – 9:30-6\nTubing Hill – 9:30-6 \nChairlift – 9:30-6 \nAlpine Slide – 9:30-6 \nGeorge’s Grill – 11-5:30
URL:https://rushmoretramwayadventures.com/hours-pricing/open-930am-600pm-2/
CATEGORIES:800 ft. Zipline,Aerial Adventure Park,Alpine Slide,George's Grill,Jump Tower,Pinnacle Zip Tour,Scenic Chairlift,Tubing Hill
END:VEVENT
BEGIN:VEVENT
DTSTART;TZID=America/Chicago:20220807T100000
DTEND;TZID=America/Chicago:20220812T170000
DTSTAMP:20260422T053507
CREATED:20220130T001358Z
LAST-MODIFIED:20220522T154503Z
UID:1984-1659866400-1660323600@rushmoretramwayadventures.com
SUMMARY:OPEN 10:00AM - 5:00PM
DESCRIPTION:Aerial Adventure Park – 10:00AM – 4:30PM\nPinnacle Zip Tour – 10-4 Tours depart every 30 minutes\n800 ft. Zipline – 10-5\nJump Tower – 10-5\nTubing Hill – 10-5 \nChairlift – 10-5 \nAlpine Slide – 10-5 \nGeorge’s Grill – 11-4:30
URL:https://rushmoretramwayadventures.com/hours-pricing/open-hours-10-5-zt30/
LOCATION:Rushmore Tramway Adventures\, 203 Cemetery Road\, Keystone SD\, 57751\, United States
CATEGORIES:800 ft. Zipline,Aerial Adventure Park,Alpine Slide,George's Grill,Jump Tower,Pinnacle Zip Tour,Scenic Chairlift,Tubing Hill
ORGANIZER;CN="Rushmore Adventures Team":MAILTO:info@rushmoretramway.com
END:VEVENT
BEGIN:VEVENT
DTSTART;TZID=America/Chicago:20220813T093000
DTEND;TZID=America/Chicago:20220819T170000
DTSTAMP:20260422T053507
CREATED:20220130T001614Z
LAST-MODIFIED:20220302T013010Z
UID:1986-1660383000-1660928400@rushmoretramwayadventures.com
SUMMARY:OPEN 9:30AM - 5:00PM
DESCRIPTION:Aerial Adventure Park – 9:30AM – 4:30PM\nPinnacle Zip Tour – 9:30-4 Tours depart every 30 minutes\n800 ft. Zipline – 9:30-5\nJump Tower – 9:30-5\nTubing Hill – 9:30-5 \nChairlift – 9:30-5 \nAlpine Slide – 9:30-5 \nGeorge’s Grill – 11-4:30
URL:https://rushmoretramwayadventures.com/hours-pricing/open-hours-930-5-zt30/
LOCATION:Rushmore Tramway Adventures\, 203 Cemetery Road\, Keystone SD\, 57751\, United States
CATEGORIES:800 ft. Zipline,Aerial Adventure Park,Alpine Slide,George's Grill,Jump Tower,Pinnacle Zip Tour,Scenic Chairlift,Tubing Hill
ORGANIZER;CN="Rushmore Adventures Team":MAILTO:info@rushmoretramway.com
END:VEVENT
BEGIN:VEVENT
DTSTART;TZID=America/Chicago:20220820T093000
DTEND;TZID=America/Chicago:20220828T170000
DTSTAMP:20260422T053507
CREATED:20220130T001724Z
LAST-MODIFIED:20220302T012949Z
UID:1988-1660987800-1661706000@rushmoretramwayadventures.com
SUMMARY:OPEN 9:30AM - 5:00PM
DESCRIPTION:Aerial Adventure Park – 9:30AM – 4:30PM\nPinnacle Zip Tour – 9:30-4:15 Tours depart every 45 minutes\n800 ft. Zipline – 9:30-5\nJump Tower – 9:30-5\nTubing Hill – 9:30-5 \nChairlift – 9:30-5 \nAlpine Slide – 9:30-5 \nGeorge’s Grill – 9:30-4:30
URL:https://rushmoretramwayadventures.com/hours-pricing/open-hours-930-5-zt30-rally-ends/
LOCATION:Rushmore Tramway Adventures\, 203 Cemetery Road\, Keystone SD\, 57751\, United States
CATEGORIES:800 ft. Zipline,Aerial Adventure Park,Alpine Slide,George's Grill,Jump Tower,Pinnacle Zip Tour,Scenic Chairlift,Tubing Hill
ORGANIZER;CN="Rushmore Adventures Team":MAILTO:info@rushmoretramway.com
END:VEVENT
BEGIN:VEVENT
DTSTART;TZID=America/Chicago:20220829T103000
DTEND;TZID=America/Chicago:20220901T170000
DTSTAMP:20260422T053507
CREATED:20220130T002209Z
LAST-MODIFIED:20220302T013616Z
UID:1994-1661769000-1662051600@rushmoretramwayadventures.com
SUMMARY:OPEN 10:30AM - 5:00PM
DESCRIPTION:Aerial Adventure Park – 10:30AM – 4:30PM\nPinnacle Zip Tour – 10:30-3:30 Tours depart every 60 minutes\n800 ft. Zipline – 10:30-5\nJump Tower – 10:30-5\nTubing Hill – 10:30-5 \nChairlift – 10:30-5 \nAlpine Slide – 10:30-5 \nGeorge’s Grill – 11-4:30
URL:https://rushmoretramwayadventures.com/hours-pricing/open-hours-1030-5-zt60/
LOCATION:Rushmore Tramway Adventures\, 203 Cemetery Road\, Keystone SD\, 57751\, United States
CATEGORIES:800 ft. Zipline,Aerial Adventure Park,Alpine Slide,George's Grill,Jump Tower,Pinnacle Zip Tour,Scenic Chairlift,Tubing Hill
ORGANIZER;CN="Rushmore Adventures Team":MAILTO:info@rushmoretramway.com
END:VEVENT
END:VCALENDAR