BEGIN:VCALENDAR
VERSION:2.0
PRODID:-//Rushmore Tramway Adventures - ECPv6.15.20//NONSGML v1.0//EN
CALSCALE:GREGORIAN
METHOD:PUBLISH
X-ORIGINAL-URL:https://rushmoretramwayadventures.com
X-WR-CALDESC:Events for Rushmore Tramway Adventures
REFRESH-INTERVAL;VALUE=DURATION:PT1H
X-Robots-Tag:noindex
X-PUBLISHED-TTL:PT1H
BEGIN:VTIMEZONE
TZID:America/Chicago
BEGIN:DAYLIGHT
TZOFFSETFROM:-0600
TZOFFSETTO:-0500
TZNAME:CDT
DTSTART:20220313T080000
END:DAYLIGHT
BEGIN:STANDARD
TZOFFSETFROM:-0500
TZOFFSETTO:-0600
TZNAME:CST
DTSTART:20221106T070000
END:STANDARD
BEGIN:DAYLIGHT
TZOFFSETFROM:-0600
TZOFFSETTO:-0500
TZNAME:CDT
DTSTART:20230312T080000
END:DAYLIGHT
BEGIN:STANDARD
TZOFFSETFROM:-0500
TZOFFSETTO:-0600
TZNAME:CST
DTSTART:20231105T070000
END:STANDARD
BEGIN:DAYLIGHT
TZOFFSETFROM:-0600
TZOFFSETTO:-0500
TZNAME:CDT
DTSTART:20240310T080000
END:DAYLIGHT
BEGIN:STANDARD
TZOFFSETFROM:-0500
TZOFFSETTO:-0600
TZNAME:CST
DTSTART:20241103T070000
END:STANDARD
END:VTIMEZONE
BEGIN:VEVENT
DTSTART;TZID=America/Chicago:20230701T093000
DTEND;TZID=America/Chicago:20230801T183000
DTSTAMP:20260421T212356
CREATED:20230209T190229Z
LAST-MODIFIED:20230802T232231Z
UID:2253-1688203800-1690914600@rushmoretramwayadventures.com
SUMMARY:OPEN 9:30AM - 6:30PM
DESCRIPTION:Aerial Adventure Park – 9:30-6\nPinnacle Zip Tour – 9:30-5:30 Tours depart every 30 minutes\n800 ft. Zipline – 9:30-6:30\nJump Tower – 9:30-6:30\nTubing Hill – 9:30-6:30\nScenic Chairlift – 9:30-6:30\nAlpine Slide – 9:30-6:30\nGeorge’s Grill – 11-6
URL:https://rushmoretramwayadventures.com/hours-pricing/open-930am-630pm/
CATEGORIES:800 ft. Zipline,Aerial Adventure Park,Alpine Slide,George's Grill,Jump Tower,Pinnacle Zip Tour,Scenic Chairlift,Tubing Hill
END:VEVENT
BEGIN:VEVENT
DTSTART;VALUE=DATE:20230801
DTEND;VALUE=DATE:20230902
DTSTAMP:20260421T212356
CREATED:20230214T203817Z
LAST-MODIFIED:20230215T175147Z
UID:2304-1690848000-1693612799@rushmoretramwayadventures.com
SUMMARY:LOWEST PRICING
DESCRIPTION:
URL:https://rushmoretramwayadventures.com/hours-pricing/base-pricing-5/
END:VEVENT
BEGIN:VEVENT
DTSTART;TZID=America/Chicago:20230803T093000
DTEND;TZID=America/Chicago:20230805T180000
DTSTAMP:20260421T212356
CREATED:20230209T190829Z
LAST-MODIFIED:20230802T232450Z
UID:2255-1691055000-1691258400@rushmoretramwayadventures.com
SUMMARY:OPEN 9:30AM - 6:00PM
DESCRIPTION:Aerial Adventure Park – 9:30-5:30\nPinnacle Zip Tour – 9:30-5:00 Tours depart every 30 minutes\n800 ft. Zipline – 9:30-6\nJump Tower – 9:30-6\nTubing Hill – 9:30-6\nScenic Chairlift – 9:30-6\nAlpine Slide – 9:30-6\nGeorge’s Grill – 11-5:30
URL:https://rushmoretramwayadventures.com/hours-pricing/open-930am-600pm-5/
CATEGORIES:800 ft. Zipline,Aerial Adventure Park,Alpine Slide,George's Grill,Jump Tower,Pinnacle Zip Tour,Scenic Chairlift,Tubing Hill
END:VEVENT
BEGIN:VEVENT
DTSTART;TZID=America/Chicago:20230806T100000
DTEND;TZID=America/Chicago:20230811T170000
DTSTAMP:20260421T212356
CREATED:20230209T191116Z
LAST-MODIFIED:20230209T191116Z
UID:2257-1691316000-1691773200@rushmoretramwayadventures.com
SUMMARY:OPEN 10:00AM - 5:00PM
DESCRIPTION:Aerial Adventure Park – 10-4:30\nPinnacle Zip Tour – 10-4Tours depart every 45 minutes\n800 ft. Zipline – 10-5\nJump Tower – 10-5\nTubing Hill – 10-5\nScenic Chairlift – 10-5\nAlpine Slide – 10-5\nGeorge’s Grill – 11-4:30
URL:https://rushmoretramwayadventures.com/hours-pricing/open-1000am-500pm/
CATEGORIES:800 ft. Zipline,Aerial Adventure Park,Alpine Slide,George's Grill,Jump Tower,Pinnacle Zip Tour,Scenic Chairlift,Tubing Hill
END:VEVENT
BEGIN:VEVENT
DTSTART;TZID=America/Chicago:20230812T093000
DTEND;TZID=America/Chicago:20230827T170000
DTSTAMP:20260421T212356
CREATED:20230209T191536Z
LAST-MODIFIED:20230209T191536Z
UID:2266-1691832600-1693155600@rushmoretramwayadventures.com
SUMMARY:OPEN 9:30AM - 5:00PM
DESCRIPTION:Aerial Adventure Park – 9:30-4:30\nPinnacle Zip Tour – 9:30-4:15 Tours depart every 45 minutes\n800 ft. Zipline – 9:30-5\nJump Tower – 9:30-5\nTubing Hill – 9:30-5\nScenic Chairlift – 9:30-5\nAlpine Slide – 9:30-5\nGeorge’s Grill – 11-4:30
URL:https://rushmoretramwayadventures.com/hours-pricing/open-930am-500pm-3/
CATEGORIES:800 ft. Zipline,Aerial Adventure Park,Alpine Slide,George's Grill,Jump Tower,Pinnacle Zip Tour,Scenic Chairlift,Tubing Hill
END:VEVENT
BEGIN:VEVENT
DTSTART;TZID=America/Chicago:20230828T103000
DTEND;TZID=America/Chicago:20230831T170000
DTSTAMP:20260421T212356
CREATED:20230209T191752Z
LAST-MODIFIED:20230209T191752Z
UID:2268-1693218600-1693501200@rushmoretramwayadventures.com
SUMMARY:OPEN 10:30AM - 5:00PM
DESCRIPTION:Aerial Adventure Park – 10:30-4:30\nPinnacle Zip Tour – 10:30-3:30 Tours depart every 60 minutes\n800 ft. Zipline – 10:30-5\nJump Tower – 10:30-5\nTubing Hill – 10:30-5\nScenic Chairlift – 10:30-5\nAlpine Slide – 10:30-5\nGeorge’s Grill – 11-4:30
URL:https://rushmoretramwayadventures.com/hours-pricing/open-1030am-500pm/
CATEGORIES:800 ft. Zipline,Aerial Adventure Park,Alpine Slide,George's Grill,Jump Tower,Pinnacle Zip Tour,Scenic Chairlift,Tubing Hill
END:VEVENT
END:VCALENDAR