BEGIN:VCALENDAR
VERSION:2.0
PRODID:-//Rushmore Tramway Adventures - ECPv6.15.20//NONSGML v1.0//EN
CALSCALE:GREGORIAN
METHOD:PUBLISH
X-ORIGINAL-URL:https://rushmoretramwayadventures.com
X-WR-CALDESC:Events for Rushmore Tramway Adventures
REFRESH-INTERVAL;VALUE=DURATION:PT1H
X-Robots-Tag:noindex
X-PUBLISHED-TTL:PT1H
BEGIN:VTIMEZONE
TZID:America/Chicago
BEGIN:DAYLIGHT
TZOFFSETFROM:-0600
TZOFFSETTO:-0500
TZNAME:CDT
DTSTART:20230312T080000
END:DAYLIGHT
BEGIN:STANDARD
TZOFFSETFROM:-0500
TZOFFSETTO:-0600
TZNAME:CST
DTSTART:20231105T070000
END:STANDARD
BEGIN:DAYLIGHT
TZOFFSETFROM:-0600
TZOFFSETTO:-0500
TZNAME:CDT
DTSTART:20240310T080000
END:DAYLIGHT
BEGIN:STANDARD
TZOFFSETFROM:-0500
TZOFFSETTO:-0600
TZNAME:CST
DTSTART:20241103T070000
END:STANDARD
BEGIN:DAYLIGHT
TZOFFSETFROM:-0600
TZOFFSETTO:-0500
TZNAME:CDT
DTSTART:20250309T080000
END:DAYLIGHT
BEGIN:STANDARD
TZOFFSETFROM:-0500
TZOFFSETTO:-0600
TZNAME:CST
DTSTART:20251102T070000
END:STANDARD
END:VTIMEZONE
BEGIN:VEVENT
DTSTART;VALUE=DATE:20240831
DTEND;VALUE=DATE:20240903
DTSTAMP:20260421T093607
CREATED:20230919T192600Z
LAST-MODIFIED:20231107T184141Z
UID:2597-1725062400-1725321599@rushmoretramwayadventures.com
SUMMARY:PEAK PRICING
DESCRIPTION:
URL:https://rushmoretramwayadventures.com/hours-pricing/peak-pricing-5/
END:VEVENT
BEGIN:VEVENT
DTSTART;TZID=America/Chicago:20240831T093000
DTEND;TZID=America/Chicago:20240901T190000
DTSTAMP:20260421T093607
CREATED:20230919T192454Z
LAST-MODIFIED:20231107T183956Z
UID:2595-1725096600-1725217200@rushmoretramwayadventures.com
SUMMARY:OPEN 9:30AM - 7:00PM
DESCRIPTION:Aerial Adventure Park – 9:30-6:30\nPinnacle Zip Tour – 9:30-6 Tours depart every 30 minutes\n800 ft. Zipline – 9:30-7\nJump Tower – 9:30-7\nTubing Hill – 9:30-7\nScenic Chairlift – 9:30-7\nAlpine Slide – 9:30-7\nGeorge’s Grill – 11-6:30
URL:https://rushmoretramwayadventures.com/hours-pricing/open-930am-700pm-4/
CATEGORIES:800 ft. Zipline,Aerial Adventure Park,Alpine Slide,George's Grill,Jump Tower,Pinnacle Zip Tour,Scenic Chairlift,Tubing Hill
END:VEVENT
BEGIN:VEVENT
DTSTART;TZID=America/Chicago:20240902T093000
DTEND;TZID=America/Chicago:20240902T160000
DTSTAMP:20260421T093607
CREATED:20230919T192848Z
LAST-MODIFIED:20230919T192848Z
UID:2599-1725269400-1725292800@rushmoretramwayadventures.com
SUMMARY:OPEN 9:30AM - 4:00PM
DESCRIPTION:Aerial Adventure Park – 9:30-3:30\nPinnacle Zip Tour – 9:30-2:45 Tours depart every 45 minutes\n800 ft. Zipline – 9:30-4\nJump Tower – 9:30-4\nTubing Hill – 9:30-4\nScenic Chairlift – 9:30-4\nAlpine Slide – 9:30-4\nGeorge’s Grill – 11-3:30
URL:https://rushmoretramwayadventures.com/hours-pricing/open-930am-400pm-2/
CATEGORIES:800 ft. Zipline,Aerial Adventure Park,Alpine Slide,George's Grill,Jump Tower,Pinnacle Zip Tour,Scenic Chairlift,Tubing Hill
END:VEVENT
BEGIN:VEVENT
DTSTART;VALUE=DATE:20240907
DTEND;VALUE=DATE:20240909
DTSTAMP:20260421T093607
CREATED:20230919T194229Z
LAST-MODIFIED:20230919T194229Z
UID:2611-1725667200-1725839999@rushmoretramwayadventures.com
SUMMARY:LOWEST PRICING
DESCRIPTION:
URL:https://rushmoretramwayadventures.com/hours-pricing/lowest-pricing-7/
END:VEVENT
BEGIN:VEVENT
DTSTART;TZID=America/Chicago:20240907T100000
DTEND;TZID=America/Chicago:20240908T160000
DTSTAMP:20260421T093607
CREATED:20230919T193243Z
LAST-MODIFIED:20240821T151633Z
UID:2603-1725703200-1725811200@rushmoretramwayadventures.com
SUMMARY:OPEN 10:00AM - 4:00PM
DESCRIPTION:Aerial Adventure Park – 10:00AM – 3:30PM\nPinnacle Zip Tour – 10-3 Tours depart every 60 minutes\n800 ft. Zipline – 10-4\nJump Tower – 10-4\nTubing Hill – 10-4\nChairlift – 10-4\nAlpine Slide – 10-4 \nGeorge’s Grill – CLOSED FOR THE SEASON
URL:https://rushmoretramwayadventures.com/hours-pricing/open-1000am-400pm-10/
CATEGORIES:800 ft. Zipline,Aerial Adventure Park,Alpine Slide,Jump Tower,Pinnacle Zip Tour,Scenic Chairlift,Tubing Hill
END:VEVENT
BEGIN:VEVENT
DTSTART;VALUE=DATE:20240914
DTEND;VALUE=DATE:20240916
DTSTAMP:20260421T093607
CREATED:20230919T194258Z
LAST-MODIFIED:20230919T194258Z
UID:2613-1726272000-1726444799@rushmoretramwayadventures.com
SUMMARY:LOWEST PRICING
DESCRIPTION:
URL:https://rushmoretramwayadventures.com/hours-pricing/lowest-pricing-8/
END:VEVENT
BEGIN:VEVENT
DTSTART;TZID=America/Chicago:20240914T100000
DTEND;TZID=America/Chicago:20240915T160000
DTSTAMP:20260421T093607
CREATED:20230919T193459Z
LAST-MODIFIED:20240821T151702Z
UID:2605-1726308000-1726416000@rushmoretramwayadventures.com
SUMMARY:OPEN 10:00AM - 4:00PM
DESCRIPTION:Aerial Adventure Park – 10:00AM – 3:30PM\nPinnacle Zip Tour – 10-3 Tours depart every 60 minutes\n800 ft. Zipline – 10-4\nJump Tower – 10-4\nTubing Hill – 10-4\nChairlift – 10-4\nAlpine Slide – 10-4 \nGeorge’s Grill – CLOSED FOR THE SEASON
URL:https://rushmoretramwayadventures.com/hours-pricing/open-1000am-400pm-11/
CATEGORIES:800 ft. Zipline,Aerial Adventure Park,Alpine Slide,Jump Tower,Pinnacle Zip Tour,Scenic Chairlift,Tubing Hill
END:VEVENT
BEGIN:VEVENT
DTSTART;VALUE=DATE:20240921
DTEND;VALUE=DATE:20240923
DTSTAMP:20260421T093607
CREATED:20230919T194316Z
LAST-MODIFIED:20230919T194316Z
UID:2615-1726876800-1727049599@rushmoretramwayadventures.com
SUMMARY:LOWEST PRICING
DESCRIPTION:
URL:https://rushmoretramwayadventures.com/hours-pricing/lowest-pricing-9/
END:VEVENT
BEGIN:VEVENT
DTSTART;TZID=America/Chicago:20240921T100000
DTEND;TZID=America/Chicago:20240922T160000
DTSTAMP:20260421T093607
CREATED:20230919T194040Z
LAST-MODIFIED:20240821T151907Z
UID:2607-1726912800-1727020800@rushmoretramwayadventures.com
SUMMARY:OPEN 10:00AM - 4:00PM
DESCRIPTION:Aerial Adventure Park – 10:00AM – 3:30PM\nPinnacle Zip Tour – 10-3 Tours depart every 60 minutes\n800 ft. Zipline – 10-4\nJump Tower – 10-4\nTubing Hill – 10-4\nChairlift – 10-4\nAlpine Slide – 10-4 \nGeorge’s Grill – CLOSED FOR THE SEASON
URL:https://rushmoretramwayadventures.com/hours-pricing/open-1000am-400pm-12/
CATEGORIES:800 ft. Zipline,Aerial Adventure Park,Alpine Slide,Jump Tower,Pinnacle Zip Tour,Scenic Chairlift,Tubing Hill
END:VEVENT
BEGIN:VEVENT
DTSTART;VALUE=DATE:20240928
DTEND;VALUE=DATE:20240930
DTSTAMP:20260421T093607
CREATED:20230919T194339Z
LAST-MODIFIED:20230919T194339Z
UID:2617-1727481600-1727654399@rushmoretramwayadventures.com
SUMMARY:LOWEST PRICING
DESCRIPTION:
URL:https://rushmoretramwayadventures.com/hours-pricing/lowest-pricing-10/
END:VEVENT
BEGIN:VEVENT
DTSTART;TZID=America/Chicago:20240928T100000
DTEND;TZID=America/Chicago:20240929T160000
DTSTAMP:20260421T093607
CREATED:20230919T194111Z
LAST-MODIFIED:20240821T151931Z
UID:2608-1727517600-1727625600@rushmoretramwayadventures.com
SUMMARY:OPEN 10:00AM - 4:00PM
DESCRIPTION:Aerial Adventure Park – 10:00AM – 3:30PM\nPinnacle Zip Tour – 10-3 Tours depart every 60 minutes\n800 ft. Zipline – 10-4\nJump Tower – 10-4\nTubing Hill – 10-4\nChairlift – 10-4\nAlpine Slide – 10-4 \nGeorge’s Grill – CLOSED FOR THE SEASON
URL:https://rushmoretramwayadventures.com/hours-pricing/open-1000am-400pm-13/
CATEGORIES:800 ft. Zipline,Aerial Adventure Park,Alpine Slide,Jump Tower,Pinnacle Zip Tour,Scenic Chairlift,Tubing Hill
END:VEVENT
END:VCALENDAR